Workbook

Sheet Sheet2
A1: 2026年绩效监控项目
A2: 编号 | B2: 项目名称 | C2: 项目编号 | D2: 项目单位 | E2: 项目总金额 | F2: 填报人 | G2: 备注
A3: 1 | B3: 河南工业职业技术学院智慧档案馆项目 | C3: 330126 | D3: 党政办公室 | E3: 6800000 | F3: =VLOOKUP(B3,[2]sheet1!$A$4:$C$88,3,FALSE) -> 安炜 | G3: 省属高职生均专项业务经费
A4: 2 | B4: 思政育人质量提升工程 | C4: 330226 | D4: 党委宣传部 | E4: 620000 | F4: =VLOOKUP(B4,[2]sheet1!$A$4:$C$88,3,FALSE) -> 于慧 | G4: 省属高职生均专项业务经费
A5: 3 | B5: 职业教育教师教学能力水平提升 | C5: 330326 | D5: 教务处 | E5: 930000 | F5: =VLOOKUP(B5,[2]sheet1!$A$4:$C$88,3,FALSE) -> 张继方 | G5: 省属高职生均专项业务经费
A6: 4 | B6: 教育教学改革研究和教学成果培育提升 | C6: 330426 | D6: 教务处 | E6: 730000 | F6: =VLOOKUP(B6,[2]sheet1!$A$4:$C$88,3,FALSE) -> 王林生 | G6: 省属高职生均专项业务经费
A7: 5 | B7: 基层教学组织内涵建设 | C7: 330526 | D7: 教务处 | E7: 480000 | F7: =VLOOKUP(B7,[2]sheet1!$A$4:$C$88,3,FALSE) -> 张继方 | G7: 省属高职生均专项业务经费
A8: 6 | B8: 科学研究能力提升工程 | C8: 330726 | D8: 科技外事处 | E8: 2460000 | F8: =VLOOKUP(B8,[2]sheet1!$A$4:$C$88,3,FALSE) -> 郭鼎 | G8: 省属高职生均专项业务经费
A9: 7 | B9: 财务管理技能提升工程 | C9: 330826 | D9: 财务处 | E9: 380000 | F9: =VLOOKUP(B9,[2]sheet1!$A$4:$C$88,3,FALSE) -> 侯佳玉 | G9: 省属高职生均专项业务经费
A10: 8 | B10: 供需对接就业育人基地建设 | C10: 330926 | D10: 招生就业处 | E10: 800000 | F10: =VLOOKUP(B10,[2]sheet1!$A$4:$C$88,3,FALSE) -> 范印 | G10: 省属高职生均专项业务经费
A11: 9 | B11: 孔明校区学生食堂屋顶防水维修项目 | C11: 331026 | D11: 基建处 | E11: 3170000 | F11: =VLOOKUP(B11,[2]sheet1!$A$4:$C$88,3,FALSE) -> 程寅盾 | G11: 省属高职生均专项业务经费
A12: 10 | B12: 光武校区教学楼基础环境维修项目 | C12: 331126 | D12: 基建处 | E12: 2000000 | F12: =VLOOKUP(B12,[2]sheet1!$A$4:$C$88,3,FALSE) -> 程寅盾 | G12: 省属高职生均专项业务经费
A13: 11 | B13: 综合报修平台建设 | C13: 331226 | D13: 后勤服务中心 | E13: 150000 | F13: =VLOOKUP(B13,[2]sheet1!$A$4:$C$88,3,FALSE) -> 朱性哲 | G13: 省属高职生均专项业务经费
A14: 12 | B14: 智能建造与数字化应用实训中心 | C14: 331326 | D14: 建筑工程学院 | E14: 1190000 | F14: =VLOOKUP(B14,[2]sheet1!$A$4:$C$88,3,FALSE) -> 李铁东 | G14: 省属高职生均专项业务经费
... A58: 57 | B58: 厚德楼一楼办公室区域环境改造 | C58: 312426 | D58: 后勤服务中心 | E58: 40000 | F58: =VLOOKUP(B58,[2]sheet1!$A$4:$C$88,3,FALSE) -> 孙亮 | G58: 2026年高职生均奖补资金
A59: 58 | B59: 新能源汽车产教融合实训中心建设 | C59: 312126 | D59: 汽车与航空工程学院 | E59: 1376127.1 | F59: 郭仓库 | G59: 2026年高职生均奖补资金
A60: 59 | B60: 电子信息工程技术专业群-学生职业技能水平提升（双高） | C60: 3601030126 | D60: 教务处 | E60: 2350000 | F60: =VLOOKUP(B60,[2]sheet1!$A$4:$C$88,3,FALSE) -> 王晗 | G60: 国家高职”双高“奖补中央资金
A61: 60 | B61: 电子信息工程技术专业群—“五育融通”培养工程（双高） | C61: 3601010126 | D61: 电子信息工程学院 | E61: 100000 | F61: =VLOOKUP(B61,[2]sheet1!$A$4:$C$88,3,FALSE) -> 杨旭 | G61: 国家高职”双高“奖补中央资金
A62: 61 | B62: 电子信息工程技术专业群-文化育人质量提升工程（双高） | C62: 3601010226 | D62: 党委宣传部 | E62: 700000 | F62: =VLOOKUP(B62,[2]sheet1!$A$4:$C$88,3,FALSE) -> 郭君扬 | G62: 国家高职”双高“奖补中央资金
A63: 62 | B63: 电子信息工程技术专业群-“三联三促 ”联建工程（双高） | C63: 3601010326 | D63: 党委组织部 | E63: 250000 | F63: =VLOOKUP(B63,[2]sheet1!$A$4:$C$88,3,FALSE) -> 张琨 | G63: 国家高职”双高“奖补中央资金
A64: 63 | B64: 电子信息工程技术专业群-人才培养模式改革与创新（双高） | C64: 3601030226 | D64: 教务处 | E64: 200000 | F64: =VLOOKUP(B64,[2]sheet1!$A$4:$C$88,3,FALSE) -> 刘清文 | G64: 国家高职”双高“奖补中央资金
A65: 64 | B65: 电子信息工程技术专业群-实习就业基地建设（双高） | C65: 3601070126 | D65: 教务处 | E65: 200000 | F65: =VLOOKUP(B65,[2]sheet1!$A$4:$C$88,3,FALSE) -> 张玺 | G65: 国家高职”双高“奖补中央资金
A66: 65 | B66: 电子信息工程技术专业群-人才培养质量提升工程（双高）（调减50万） | C66: 3601030326 | D66: 电子信息工程学院 | E66: 1000000 | F66: =VLOOKUP(B66,[2]sheet1!$A$4:$C$88,3,FALSE) -> 邢鹏康 | G66: 国家高职”双高“奖补中央资金
A67: 66 | B67: 电子信息工程技术专业群-一流核心课程建设(双高) | C67: 3601040126 | D67: 电子信息工程学院 | E67: 1250000 | F67: =VLOOKUP(B67,[2]sheet1!$A$4:$C$88,3,FALSE) -> 方华丽 | G67: 国家高职”双高“奖补中央资金
A68: 67 | B68: 电子信息工程技术专业群-完善产教融合机制(双高) | C68: 3601020126 | D68: 产教融合发展中心 | E68: 1100000 | F68: =VLOOKUP(B68,[2]sheet1!$A$4:$C$88,3,FALSE) -> 汤东亚 | G68: 国家高职”双高“奖补中央资金
A69: 68 | B69: 电子信息工程技术专业群-通信原理综合实训室（双高） | C69: 3601070226 | D69: 电子信息工程学院 | E69: 650000 | F69: =VLOOKUP(B69,[2]sheet1!$A$4:$C$88,3,FALSE) -> 方华丽 | G69: 国家高职”双高“奖补中央资金
A70: 69 | B70: 电子信息工程技术专业群—智能传感器技术应用实训室（双高) | C70: 3601070326 | D70: 电子信息工程学院 | E70: 800000 | F70: =VLOOKUP(B70,[2]sheet1!$A$4:$C$88,3,FALSE) -> 邢鹏康 | G70: 国家高职”双高“奖补中央资金
A71: 70 | B71: 电子信息工程技术专业群-国际化办学深化工程（双高） | C71: 3601090126 | D71: 科技外事处 | E71: 600000 | F71: =VLOOKUP(B71,[2]sheet1!$A$4:$C$88,3,FALSE) -> 杨俊成 | G71: 国家高职”双高“奖补中央资金
... A89: 88 | B89: 实训条件资源提升 | C89: 340726 | D89: 国有资产管理处 | E89: 460000 | F89: =VLOOKUP(B89,[2]sheet1!$A$4:$C$88,3,FALSE) -> 魏允 | G89: 2026年省双高奖补资金
A90: 89 | B90: 2026年河南省外国留学生政府奖学金 | C90: 320526 | D90: =VLOOKUP(B90,[1]原表!D$6:F$579,3,FALSE) -> 科技外事处 | E90: 50000 | F90: =VLOOKUP(B90,[2]sheet1!$A$4:$C$88,3,FALSE) -> 徐楚梦 | G90: 其他财政资金
A91: 90 | B91: 光武校区教学楼升级改造项目 | C91: 321326 | D91: =VLOOKUP(B91,[1]原表!D$6:F$579,3,FALSE) -> 基建处 | E91: 1700000 | F91: =VLOOKUP(B91,[2]sheet1!$A$4:$C$88,3,FALSE) -> 程寅盾 | G91: 其他财政资金
A92: 91 | B92: 2026年中等职业学校免学费省级配套-省级 | E92: 1269000 | F92: =VLOOKUP(B92,[2]sheet1!$A$4:$C$88,3,FALSE) -> 高亦平 | G92: 其他财政资金
A93: 92 | B93: 光武路校区2#学生公寓维修改造项目 | C93: 321226 | D93: =VLOOKUP(B93,[1]原表!D$6:F$579,3,FALSE) -> 基建处 | E93: 1700000 | F93: =VLOOKUP(B93,[2]sheet1!$A$4:$C$88,3,FALSE) -> 程寅盾 | G93: 其他财政资金
A94: 93 | B94: 2026年省优质国际化课程（李淑霞） | C94: 320726 | D94: =VLOOKUP(B94,[1]原表!D$6:F$579,3,FALSE) -> 科技外事处 | E94: 30000 | F94: =VLOOKUP(B94,[2]sheet1!$A$4:$C$88,3,FALSE) -> 徐楚梦 | G94: 其他财政资金
A95: 94 | B95: 教育共同事权用于省级-高校学生资助中央资金-高职省级 | C95: 320426 | D95: =VLOOKUP(B95,[1]原表!D$6:F$579,3,FALSE) -> 学生处 | E95: 16849000 | F95: =VLOOKUP(B95,[2]sheet1!$A$4:$C$88,3,FALSE) -> 孙莹莹 | G95: 其他财政资金
A96: 95 | B96: 教科技〔2025〕234号、2026年河南省校企协同创新项目 | C96: 320926 | D96: =VLOOKUP(B96,[1]原表!D$6:F$579,3,FALSE) -> 科技外事处 | E96: 200000 | F96: =VLOOKUP(B96,[2]sheet1!$A$4:$C$88,3,FALSE) -> 徐楚梦 | G96: 其他财政资金
A97: 96 | B97: 2026年高校国家奖助学金省级配套-高职省级 | C97: 320326 | D97: =VLOOKUP(B97,[1]原表!D$6:F$579,3,FALSE) -> 学生处 | E97: 4867000 | F97: =VLOOKUP(B97,[2]sheet1!$A$4:$C$88,3,FALSE) -> 孙莹莹 | G97: 其他财政资金
A98: 97 | B98: 2025年豫你携手创赢未来大赛获奖资助 | C98: 321126 | D98: =VLOOKUP(B98,[1]原表!D$6:F$579,3,FALSE) -> 招生就业处 | E98: 20000 | F98: =VLOOKUP(B98,[2]sheet1!$A$4:$C$88,3,FALSE) -> 薛书彦 | G98: 其他财政资金
A99: 合计 | E99: =SUM(E3:E98) -> 126465000

Sheet Sheet3
